BEGIN:VCALENDAR
VERSION:2.0
PRODID:-//Tukios.com/
BEGIN:VEVENT
UID:e2095db1-e795-4bea-8658-2a9576d061cd@www.febrownsons.com
DTSTAMP:20260421T090238Z
DTSTART:20260419T180000Z
DTEND:20260419T220000Z
SUMMARY:Visitation
DESCRIPTION:
URL:https://www.febrownsons.com/obituaries/janet-lowman
LOCATION:F.E. Brown Sons Funeral Home 6575 East Quaker Street  Orchard 
	Park NY 14127
GEO:42.7674161;-78.741753
END:VEVENT
END:VCALENDAR