BEGIN:VCALENDAR
VERSION:2.0
PRODID:-//Tukios.com/
BEGIN:VEVENT
UID:e6cde3e4-3944-4d7c-b8d8-a58afbb31104@www.febrownsons.com
DTSTAMP:20260425T165503Z
DTSTART:20260427T190000Z
DTEND:20260427T230000Z
SUMMARY:Visitation
DESCRIPTION:
URL:https://www.febrownsons.com/obituaries/dale-eckl-sr
LOCATION:F.E. Brown Sons Funeral Home 6575 East Quaker Street  Orchard 
	Park NY 14127
GEO:42.7674161;-78.741753
END:VEVENT
END:VCALENDAR