BEGIN:VCALENDAR
VERSION:2.0
PRODID:-//Tukios.com/
BEGIN:VEVENT
UID:c538f118-3b36-4f6a-b070-705f160af575@www.febrownsons.com
DTSTAMP:20260425T165142Z
DTSTART:20260428T150000Z
DTEND:20260428T160000Z
SUMMARY:Mass
DESCRIPTION:
URL:https://www.febrownsons.com/obituaries/dale-eckl-sr
LOCATION:Nativity of Our Lord Church 26 Thorn Avenue  Orchard Park NY 
	14127
GEO:42.7623863;-78.7453625
END:VEVENT
END:VCALENDAR