BEGIN:VCALENDAR
VERSION:2.0
PRODID:-//Tukios.com/
BEGIN:VEVENT
UID:46cf3d0b-e1c6-41a8-8592-c726fc13adc0@www.febrownsons.com
DTSTAMP:20260425T165708Z
DTSTART:20260428T161500Z
DTEND:20260428T164500Z
SUMMARY:Graveside Service
DESCRIPTION:
URL:https://www.febrownsons.com/obituaries/dale-eckl-sr
LOCATION:Nativity of Our Lord Cemetery Highland at S. Buffalo Streets  
	Orchard Park NY 14127
GEO:42.75917;-78.745394
END:VEVENT
END:VCALENDAR